BEGIN:VCALENDAR
VERSION:2.0
PRODID:-//MySpirit//Holistic Fayres//EN
BEGIN:VEVENT
UID:fayre-6@theunityplatform.com
DTSTAMP:20260419T212123Z
DTSTART:20260627T100000
DTEND:20260627T163000
SUMMARY:Holistic Fayre & Spiritual Experience Day
LOCATION:The Harmony Centre 45 Serenity Road
DESCRIPTION:Join us for a welcoming and uplifting Holistic Fayre\, bringing together a variety of spiritual practitioners\, readers\, and holistic traders all in one place.Explore a range of experiences including intuitive readings\, healing sessions\, and unique spiritual products such as crystals\, jewellery\, and wellbeing items. Whether you are looking for guidance\, relaxation\, or simply a peaceful day out\, there is something here for everyone. With a friendly and supportive atmosphere\, this event offers the perfect opportunity to connect with like-minded individuals\, discover new insights\, and enjoy a day focused on wellbeing\, awareness\, and personal growth.\nFor more details visit: https://theunityplatform.com/public-fayres/holistic-fayre-spiritual-experience-day-2026-06-27
END:VEVENT
END:VCALENDAR
